BEGIN:VCALENDAR
VERSION:2.0
PRODID:-//InSync Network Group - ECPv6.15.18//NONSGML v1.0//EN
CALSCALE:GREGORIAN
METHOD:PUBLISH
X-ORIGINAL-URL:https://insyncnetworkgroup.com
X-WR-CALDESC:Events for InSync Network Group
REFRESH-INTERVAL;VALUE=DURATION:PT1H
X-Robots-Tag:noindex
X-PUBLISHED-TTL:PT1H
BEGIN:VTIMEZONE
TZID:Australia/Melbourne
BEGIN:STANDARD
TZOFFSETFROM:+1100
TZOFFSETTO:+1000
TZNAME:AEST
DTSTART:20220402T160000
END:STANDARD
BEGIN:DAYLIGHT
TZOFFSETFROM:+1000
TZOFFSETTO:+1100
TZNAME:AEDT
DTSTART:20221001T160000
END:DAYLIGHT
BEGIN:STANDARD
TZOFFSETFROM:+1100
TZOFFSETTO:+1000
TZNAME:AEST
DTSTART:20230401T160000
END:STANDARD
BEGIN:DAYLIGHT
TZOFFSETFROM:+1000
TZOFFSETTO:+1100
TZNAME:AEDT
DTSTART:20230930T160000
END:DAYLIGHT
BEGIN:STANDARD
TZOFFSETFROM:+1100
TZOFFSETTO:+1000
TZNAME:AEST
DTSTART:20240406T160000
END:STANDARD
BEGIN:DAYLIGHT
TZOFFSETFROM:+1000
TZOFFSETTO:+1100
TZNAME:AEDT
DTSTART:20241005T160000
END:DAYLIGHT
END:VTIMEZONE
BEGIN:VEVENT
DTSTART;TZID=Australia/Melbourne:20230816T100000
DTEND;TZID=Australia/Melbourne:20230816T113000
DTSTAMP:20260420T063524
CREATED:20230617T125129Z
LAST-MODIFIED:20230717T012129Z
UID:4889-1692180000-1692185400@insyncnetworkgroup.com
SUMMARY:Workshop: Your Australian CV
DESCRIPTION:This session is designed to help you prepare your CV for the local Australian market. We will use tools that will help you capture the breadth and depth of your experience established overseas in a way that is relevant and of interest for local opportunities \n\n\n\nInclusions: Workshop Recording + CV Templates and Workbook
URL:https://insyncnetworkgroup.com/event/prepare-your-australian-cv/
LOCATION:Online: Via Zoom
ATTACH;FMTTYPE=image/jpeg:https://insyncnetworkgroup.com/wp-content/uploads/2023/06/Untitled-design-30-copy.jpg
END:VEVENT
BEGIN:VEVENT
DTSTART;TZID=Australia/Melbourne:20230816T170000
DTEND;TZID=Australia/Melbourne:20230816T190000
DTSTAMP:20260420T063524
CREATED:20230617T152724Z
LAST-MODIFIED:20230704T093715Z
UID:4917-1692205200-1692212400@insyncnetworkgroup.com
SUMMARY:Melbourne Expat to Repat Drinks (Aug)
DESCRIPTION:MELBOURNE: Our casual drinks evenings are a great way to meet fellow returned expats and expand your network. Simply grab a drink at the bar\, come and find us and enjoy connecting with other globally minded professionals.  \n\n\n\n\nDate: Wednesday 16th August *\n\n\n\nVenue: Transit Bar (Level 2 of Transport Hotel)\n\n\n\nFederation Square\n\n\n\nTime: 5-7pm ‘ish’! \n\n\n\n\nPlease also feel free to bring partners and extend the invitation to other fellow repatriates who are also looking to connect with other like minded globally minded professionals. \n\n\n\n* These drinks are held regularly on the third Wednesday of the month.  \n\n\n\nWhilst this is a free event\, we would love to know you are coming to help us with reserving appropriate spaces and to help us facilitate introductions. 
URL:https://insyncnetworkgroup.com/event/melbourne-expat-to-repat-drinks-aug/
LOCATION:Transit Bar\, Level 2 Transport Hotel - Federation Square\, Melbourne\, Vic\, 3000
ATTACH;FMTTYPE=image/jpeg:https://insyncnetworkgroup.com/wp-content/uploads/2023/06/MELB-.jpg
END:VEVENT
END:VCALENDAR