BEGIN:VCALENDAR
VERSION:2.0
PRODID:-//InSync Network Group - ECPv6.15.18//NONSGML v1.0//EN
CALSCALE:GREGORIAN
METHOD:PUBLISH
X-ORIGINAL-URL:https://insyncnetworkgroup.com
X-WR-CALDESC:Events for InSync Network Group
REFRESH-INTERVAL;VALUE=DURATION:PT1H
X-Robots-Tag:noindex
X-PUBLISHED-TTL:PT1H
BEGIN:VTIMEZONE
TZID:Australia/Melbourne
BEGIN:STANDARD
TZOFFSETFROM:+1100
TZOFFSETTO:+1000
TZNAME:AEST
DTSTART:20220402T160000
END:STANDARD
BEGIN:DAYLIGHT
TZOFFSETFROM:+1000
TZOFFSETTO:+1100
TZNAME:AEDT
DTSTART:20221001T160000
END:DAYLIGHT
BEGIN:STANDARD
TZOFFSETFROM:+1100
TZOFFSETTO:+1000
TZNAME:AEST
DTSTART:20230401T160000
END:STANDARD
BEGIN:DAYLIGHT
TZOFFSETFROM:+1000
TZOFFSETTO:+1100
TZNAME:AEDT
DTSTART:20230930T160000
END:DAYLIGHT
BEGIN:STANDARD
TZOFFSETFROM:+1100
TZOFFSETTO:+1000
TZNAME:AEST
DTSTART:20240406T160000
END:STANDARD
BEGIN:DAYLIGHT
TZOFFSETFROM:+1000
TZOFFSETTO:+1100
TZNAME:AEDT
DTSTART:20241005T160000
END:DAYLIGHT
END:VTIMEZONE
BEGIN:VEVENT
DTSTART;TZID=Australia/Melbourne:20231114T170000
DTEND;TZID=Australia/Melbourne:20231114T190000
DTSTAMP:20260420T013627
CREATED:20231015T100616Z
LAST-MODIFIED:20231015T100621Z
UID:5388-1699981200-1699988400@insyncnetworkgroup.com
SUMMARY:Melbourne Expat to Repat Drinks (Nov)
DESCRIPTION:MELBOURNE: Our casual drinks evenings are a great way to meet fellow returned expats and expand your network. This month we are returning to our summer venue on the river – The Arbory Bar. Simply grab a drink at the bar\, come and find us and enjoy connecting with other globally minded professionals.  \n\n\n\n\nDate: Tuesday 14th Nov\n\n\n\nVenue: The Arbory Bar (St Kilda Rd end) \n\n\n\nAddress: 1 Flinders Walk\n\n\n\nTime: 5-7pm ‘ish’! \n\n\n\n\nPlease also feel free to bring partners and extend the invitation to other fellow repatriates who are also looking to connect with other like minded globally minded professionals. \n\n\n\nWhilst this is a free event\, we would love to know you are coming to help us with reserving appropriate spaces and to help us facilitate introductions. 
URL:https://insyncnetworkgroup.com/event/melbourne-expat-to-repat-drinks-nov/
ATTACH;FMTTYPE=image/jpeg:https://insyncnetworkgroup.com/wp-content/uploads/2023/06/MELB-.jpg
END:VEVENT
END:VCALENDAR