BEGIN:VCALENDAR
VERSION:2.0
PRODID:-//InSync Network Group - ECPv6.15.20//NONSGML v1.0//EN
CALSCALE:GREGORIAN
METHOD:PUBLISH
X-WR-CALNAME:InSync Network Group
X-ORIGINAL-URL:https://insyncnetworkgroup.com
X-WR-CALDESC:Events for InSync Network Group
REFRESH-INTERVAL;VALUE=DURATION:PT1H
X-Robots-Tag:noindex
X-PUBLISHED-TTL:PT1H
BEGIN:VTIMEZONE
TZID:Australia/Melbourne
BEGIN:STANDARD
TZOFFSETFROM:+1100
TZOFFSETTO:+1000
TZNAME:AEST
DTSTART:20230401T160000
END:STANDARD
BEGIN:DAYLIGHT
TZOFFSETFROM:+1000
TZOFFSETTO:+1100
TZNAME:AEDT
DTSTART:20230930T160000
END:DAYLIGHT
BEGIN:STANDARD
TZOFFSETFROM:+1100
TZOFFSETTO:+1000
TZNAME:AEST
DTSTART:20240406T160000
END:STANDARD
BEGIN:DAYLIGHT
TZOFFSETFROM:+1000
TZOFFSETTO:+1100
TZNAME:AEDT
DTSTART:20241005T160000
END:DAYLIGHT
BEGIN:STANDARD
TZOFFSETFROM:+1100
TZOFFSETTO:+1000
TZNAME:AEST
DTSTART:20250405T160000
END:STANDARD
BEGIN:DAYLIGHT
TZOFFSETFROM:+1000
TZOFFSETTO:+1100
TZNAME:AEDT
DTSTART:20251004T160000
END:DAYLIGHT
END:VTIMEZONE
BEGIN:VEVENT
DTSTART;TZID=Australia/Melbourne:20240221T170000
DTEND;TZID=Australia/Melbourne:20240221T190000
DTSTAMP:20260421T204415
CREATED:20231220T082647Z
LAST-MODIFIED:20231220T083746Z
UID:5451-1708534800-1708542000@insyncnetworkgroup.com
SUMMARY:Sydney Expat to Repat Drinks (Feb)
DESCRIPTION:Sydney: Our casual drinks evenings are a great way to meet fellow returned expats and expand your network. Simply grab a drink at the bar\, come and find us and enjoy connecting with other globally minded professionals.  \n\n\n\n\nDate: Wednesday 21st Feb\n\n\n\nVenue: Opera Bar\n\n\n\nTime: 5-7pm ‘ish’! \n\n\n\n\nPlease also feel free to bring partners and extend the invitation to other fellow repatriates who are also looking to connect with other like minded globally minded professionals. \n\n\n\nWhilst this is a free event\, we would love to know you are coming to help us with reserving appropriate spaces and to help us facilitate introductions. 
URL:https://insyncnetworkgroup.com/event/sydney-expat-to-repat-drinks-feb/
LOCATION:Opera Bar\, Macquarie St\, Sydney\, NSW\, Australia
ATTACH;FMTTYPE=image/jpeg:https://insyncnetworkgroup.com/wp-content/uploads/2023/07/Opera-Bar.jpeg
END:VEVENT
END:VCALENDAR