BEGIN:VCALENDAR
VERSION:2.0
PRODID:-//InSync Network Group - ECPv6.15.20//NONSGML v1.0//EN
CALSCALE:GREGORIAN
METHOD:PUBLISH
X-ORIGINAL-URL:https://insyncnetworkgroup.com
X-WR-CALDESC:Events for InSync Network Group
REFRESH-INTERVAL;VALUE=DURATION:PT1H
X-Robots-Tag:noindex
X-PUBLISHED-TTL:PT1H
BEGIN:VTIMEZONE
TZID:Australia/Melbourne
BEGIN:STANDARD
TZOFFSETFROM:+1100
TZOFFSETTO:+1000
TZNAME:AEST
DTSTART:20240406T160000
END:STANDARD
BEGIN:DAYLIGHT
TZOFFSETFROM:+1000
TZOFFSETTO:+1100
TZNAME:AEDT
DTSTART:20241005T160000
END:DAYLIGHT
BEGIN:STANDARD
TZOFFSETFROM:+1100
TZOFFSETTO:+1000
TZNAME:AEST
DTSTART:20250405T160000
END:STANDARD
BEGIN:DAYLIGHT
TZOFFSETFROM:+1000
TZOFFSETTO:+1100
TZNAME:AEDT
DTSTART:20251004T160000
END:DAYLIGHT
BEGIN:STANDARD
TZOFFSETFROM:+1100
TZOFFSETTO:+1000
TZNAME:AEST
DTSTART:20260404T160000
END:STANDARD
BEGIN:DAYLIGHT
TZOFFSETFROM:+1000
TZOFFSETTO:+1100
TZNAME:AEDT
DTSTART:20261003T160000
END:DAYLIGHT
END:VTIMEZONE
BEGIN:VEVENT
DTSTART;TZID=Australia/Melbourne:20250715T170000
DTEND;TZID=Australia/Melbourne:20250715T190000
DTSTAMP:20260421T221842
CREATED:20250519T025846Z
LAST-MODIFIED:20250519T061314Z
UID:6124-1752598800-1752606000@insyncnetworkgroup.com
SUMMARY:Brisbane Expat to Repat Drinks (July)
DESCRIPTION:Our quarterly drinks evenings are a relaxed way to connect with fellow returned expats and globally minded professionals. Whether you’re freshly returned or well-settled\, this is a chance to reconnect and grow your network. \n\n\n\nThis month we’ll be meeting at  Riverbar and Kitchen . Simply grab a drink at the bar\, come find us\, and enjoy connecting with others who are navigating a similar journey home. \n\n\n\nEvent DetailsDate: 15th July 2025Venue: RiverbarLocation: Riparian Plaza\, Promenade Level 71 Eagle Street\,Time: 5 – 7pm(ish) \n\n\n\nHosted by: Angella Clarke Jervoise (Queensland Ambassador)  \n\n\n\nPartners are very welcome\, and feel free to invite other returned expats who’d enjoy meeting like-minded professionals. \n\n\n\nWhilst this is a free event\, we would love to know you are coming to help us with reserving appropriate spaces and to help us facilitate introductions. 
URL:https://insyncnetworkgroup.com/event/brisbane-expat-to-repat-drinks-july/
ATTACH;FMTTYPE=image/png:https://insyncnetworkgroup.com/wp-content/uploads/2025/04/Brisbane-1.png
END:VEVENT
END:VCALENDAR